Workbook
Name \A: '[1]CUADROS 1 Y 2'!#REF!
Name _6: #REF!
Name a1ç: [2]Propret!#REF!
Name BAREA: '[3]RESULTADOS '!$A$3:$L$15
Name JAIME: '[3]RESULTADOS '!$A$3:$L$25
Name REC: #REF!
Name T: #REF!
Name TABLA1: #REF!
Name TABLA2: #REF!
Name TABLA3: #REF!
Name TABLA4: #REF!
Name TABLA6A: #REF!
Name TABLA6B: #REF!
Name TABLA6C: #REF!
Name TABLA7: #REF!
Name TABLA8: #REF!

Sheet B
A1: BONOS Y OBLIGACIONES DEL ESTADO NO SEGREGADOS : DISTRIBUCION POR TENEDORES
A2: Carteras a vencimiento
L4: (saldos nominales en millones de EUROS)
A5: FECHA | B5: ENTIDADES DE CREDITO | C5: BANCO DE ESPAÑA | D5: ENTIDADES DE SEGUROS | E5: FONDOS DE PENSIONES | F5: FONDOS DE INVERSION | G5: OTRAS INSTITUCIONES FINANCIERAS | H5: EMPRESAS NO FINANCIERAS | I5: PERSONAS FÍSICAS | J5: ADMINISTRACIONES PÚBLICAS | K5: NO RESIDENTES | L5: TOTAL
A8: Ene-02 | B8: 68473 | C8: 3257 | D8: 16826 | E8: 5541 | F8: 14451 | G8: 972 | H8: 5654 | I8: 2352 | J8: 1409 | K8: 107514 | L8: 226449
A9: Feb-02 | B9: 66826 | C9: 3212 | D9: 17036 | E9: 5162 | F9: 14134 | G9: 775 | H9: 5693 | I9: 2282 | J9: 1451 | K9: 105207 | L9: 221779
A10: Mar-02 | B10: 68704 | C10: 3329 | D10: 17922 | E10: 4788 | F10: 14000 | G10: 844 | H10: 5746 | I10: 2303 | J10: 1455 | K10: 109058 | L10: 228149
A11: Abr-02 | B11: 70422 | C11: 3354 | D11: 18033 | E11: 4548 | F11: 13645 | G11: 1240 | H11: 5743 | I11: 2297 | J11: 1456 | K11: 109116 | L11: 229856
A12: May-02 | B12: 70574 | C12: 3349 | D12: 18359 | E12: 4590 | F12: 13418 | G12: 1475 | H12: 5737 | I12: 2365 | J12: 2673 | K12: 111791 | L12: 234331
A13: Jun-02 | B13: 71513 | C13: 3284 | D13: 18238 | E13: 4658 | F13: 12927 | G13: 1374 | H13: 5753 | I13: 2353 | J13: 3022 | K13: 109986 | L13: 233109
A14: Jul-02 | B14: 66366 | C14: 3209 | D14: 17718 | E14: 4610 | F14: 11345 | G14: 1492 | H14: 5876 | I14: 2282 | J14: 3668 | K14: 109627 | L14: 226192
A15: Ago-02 | B15: 65985 | C15: 3275 | D15: 17783 | E15: 4594 | F15: 11575 | G15: 1660 | H15: 6299 | I15: 2320 | J15: 3669 | K15: 110475 | L15: 227635
A16: Sep-02 | B16: 67336 | C16: 3482 | D16: 17177 | E16: 4550 | F16: 11096 | G16: 1973 | H16: 6383 | I16: 2321 | J16: 3672 | K16: 114323 | L16: 232313
A17: Oct-02 | B17: 67116 | C17: 3677 | D17: 17383 | E17: 4840 | F17: 11635 | G17: 1745 | H17: 6818 | I17: 2304 | J17: 3696 | K17: 113700 | L17: 232915
A18: Nov-02 | B18: 66475 | C18: 3875 | D18: 17203 | E18: 4575 | F18: 11274 | G18: 1821 | H18: 6652 | I18: 2334 | J18: 5440 | K18: 114000 | L18: 233648
A19: Dic-02 | B19: 68126 | C19: 4087 | D19: 17147 | E19: 4510 | F19: 10546 | G19: 1832 | H19: 6718 | I19: 2372 | J19: 5417 | K19: 114273 | L19: 235029
... A295: Dic-25 | B295: 199418.67 | C295: 334951.26 | D295: 83865.218 | E295: 7645.7933 | F295: 25795.114 | G295: 1673.746 | H295: 1892.9443 | I295: 3017.2643 | J295: 29788.563 | K295: 654516.03 | L295: 1342564.6
A298: Fuente: 2002-2015 Banco de España (datos Iberclear), 2016-2021 Banco de España (datos Securities Holdings Statistics).
A299: Debido a los cambios en la fuente de información, hay una ruptura en las series a partir de 2016.

Sheet L
A1: LETRAS DEL TESORO : DISTRIBUCION POR TENEDORES
A2: Carteras a vencimiento
L4: (saldos nominales en millones de EUROS)
A5: FECHA | B5: ENTIDADES DE CREDITO | C5: BANCO DE ESPAÑA | D5: ENTIDADES DE SEGUROS | E5: FONDOS DE PENSIONES | F5: FONDOS DE INVERSION | G5: OTRAS INSTITUCIONES FINANCIERAS | H5: EMPRESAS NO FINANCIERAS | I5: PERSONAS FÍSICAS | J5: ADMINISTRACIONES PÚBLICAS | K5: NO RESIDENTES | L5: TOTAL
A8: Ene-02 | B8: 21925 | C8: 0 | D8: 145 | E8: 74 | F8: 4637 | G8: 3174 | H8: 1474 | I8: 2997 | J8: 163 | K8: 756 | L8: 35346
A9: Feb-02 | B9: 22270 | C9: 0 | D9: 143 | E9: 75 | F9: 4650 | G9: 3272 | H9: 1342 | I9: 3012 | J9: 170 | K9: 760 | L9: 35694
A10: Mar-02 | B10: 22019 | C10: 0 | D10: 152 | E10: 131 | F10: 4885 | G10: 2745 | H10: 1328 | I10: 3131 | J10: 170 | K10: 864 | L10: 35427
A11: Abr-02 | B11: 22748 | C11: 0 | D11: 121 | E11: 146 | F11: 4532 | G11: 2665 | H11: 1217 | I11: 3113 | J11: 170 | K11: 868 | L11: 35579
A12: May-02 | B12: 22801 | C12: 0 | D12: 99 | E12: 238 | F12: 4391 | G12: 2554 | H12: 1272 | I12: 3137 | J12: 270 | K12: 764 | L12: 35526
A13: Jun-02 | B13: 22710 | C13: 0 | D13: 92 | E13: 309 | F13: 4474 | G13: 2660 | H13: 1087 | I13: 3160 | J13: 389 | K13: 625 | L13: 35507
A14: Jul-02 | B14: 24772 | C14: 0 | D14: 154 | E14: 315 | F14: 3831 | G14: 2513 | H14: 1067 | I14: 3150 | J14: 452 | K14: 1202 | L14: 37456
A15: Ago-02 | B15: 22020 | C15: 0 | D15: 101 | E15: 297 | F15: 5016 | G15: 2295 | H15: 941 | I15: 3148 | J15: 451 | K15: 714 | L15: 34983
A16: Sep-02 | B16: 21756 | C16: 0 | D16: 101 | E16: 300 | F16: 5798 | G16: 2119 | H16: 928 | I16: 3134 | J16: 451 | K16: 1516 | L16: 36103
A17: Oct-02 | B17: 21837 | C17: 0 | D17: 105 | E17: 315 | F17: 5838 | G17: 2126 | H17: 833 | I17: 3144 | J17: 451 | K17: 1583 | L17: 36231
A18: Nov-02 | B18: 22347 | C18: 0 | D18: 102 | E18: 345 | F18: 5921 | G18: 1992 | H18: 784 | I18: 3116 | J18: 451 | K18: 1226 | L18: 36284
A19: Dic-02 | B19: 21780 | C19: 0 | D19: 97 | E19: 358 | F19: 6104 | G19: 1913 | H19: 795 | I19: 3041 | J19: 382 | K19: 1361 | L19: 35831
... A108: May-10 | B108: 27779 | C108: 50 | D108: 197 | E108: 599 | F108: 1990 | G108: 2127 | H108: 1168 | I108: 1751 | J108: 1862 | K108: 43911 | L108: 81435
A109: Jun-10 | B109: 28056 | D109: 427 | E109: 1129 | F109: 3087 | G109: 2118 | H109: 1230 | I109: 1667 | J109: 3052 | K109: 41993 | L109: 82759
A110: Jul-10 | B110: 26698 | C110: 250 | D110: 504 | E110: 2425 | F110: 4278 | G110: 1942 | H110: 1603 | I110: 1694 | J110: 4077 | K110: 41893 | L110: 85364
A111: Ago-10 | B111: 24443 | C111: 417 | D111: 410 | E111: 2548 | F111: 4837 | G111: 1873 | H111: 1646 | I111: 1665 | J111: 5223 | K111: 44850 | L111: 87912
A112: Sep-10 | B112: 24226 | C112: 417 | D112: 539 | E112: 2968 | F112: 5196 | G112: 1874 | H112: 1773 | I112: 1656 | J112: 5077 | K112: 44905 | L112: 88632
A113: Oct-10 | B113: 25934 | C113: 417 | D113: 595 | E113: 2833 | F113: 5752 | G113: 1842 | H113: 1948 | I113: 1621 | J113: 4791 | K113: 48002 | L113: 93734
A114: Nov-10 | B114: 26975 | C114: 517 | D114: 616 | E114: 2896 | F114: 6034 | G114: 1702 | H114: 1869 | I114: 1609 | J114: 4335 | K114: 45314 | L114: 91866
A115: Dic-10 | B115: 25543 | C115: 667 | D115: 669 | E115: 2804 | F115: 5820 | G115: 1590 | H115: 1771 | I115: 1617 | J115: 4049 | K115: 45226 | L115: 89756
A116: Ene-11 | B116: 26571 | C116: 667 | D116: 894 | E116: 3624 | F116: 6351 | G116: 1569 | H116: 2148 | I116: 1702 | J116: 3772 | K116: 41738 | L116: 89034
A117: Feb-11 | B117: 27927 | C117: 971 | D117: 1133 | E117: 3812 | F117: 6432 | G117: 1638 | H117: 2300 | I117: 1715 | J117: 4369 | K117: 40793 | L117: 91089
A118: Mar-11 | B118: 27677 | C118: 1688 | D118: 1152 | E118: 3897 | F118: 6569 | G118: 1955 | H118: 2191 | I118: 1726 | J118: 5557 | K118: 36258 | L118: 88669
A119: Abr-11 | B119: 30812 | C119: 2216 | D119: 1146 | E119: 4027 | F119: 6489 | G119: 1894 | H119: 2201 | I119: 1721 | J119: 5332 | K119: 32604 | L119: 88440
A120: May-11 | B120: 30483 | C120: 2661 | D120: 1146 | E120: 4111 | F120: 6761 | G120: 2043 | H120: 2205 | I120: 1742 | J120: 4724 | K120: 33026 | L120: 88903
A121: Jun-11 | B121: 33113 | C121: 2661 | D121: 1070 | E121: 3979 | F121: 6501 | G121: 2038 | H121: 2162 | I121: 1736 | J121: 4141 | K121: 33991 | L121: 91391
... A137: Oct-12 | B137: 28343 | C137: 130 | D137: 1620 | E137: 5282 | F137: 8770 | G137: 155 | H137: 2153 | I137: 3253 | J137: 4707 | K137: 25445 | L137: 79858
A138: Nov-12 | B138: 29410 | D138: 1625 | E138: 5237 | F138: 9160 | G138: 110 | H138: 2043 | I138: 3079 | J138: 2999 | K138: 31422 | L138: 85085
A139: Dic-12 | B139: 23358 | C139: 4 | D139: 2006 | E139: 5010 | F139: 9026 | G139: 371 | H139: 1989 | I139: 2844 | J139: 6343 | K139: 33663 | L139: 84613
A140: Ene-13 | B140: 22723 | C140: 4 | D140: 1886 | E140: 4686 | F140: 7562 | G140: 388 | H140: 1902 | I140: 2762 | J140: 7252 | K140: 38781 | L140: 87946
A141: Feb-13 | B141: 23111 | C141: 4 | D141: 1812 | E141: 4405 | F141: 7201 | G141: 338 | H141: 1908 | I141: 2631 | J141: 7939 | K141: 40060 | L141: 89408
A142: Mar-13 | B142: 22615 | C142: 4 | D142: 2017 | E142: 3973 | F142: 6872 | G142: 708 | H142: 1843 | I142: 2625 | J142: 7143 | K142: 39893 | L142: 87693
A143: Abr-13 | B143: 22045 | C143: 4 | D143: 1796 | E143: 3692 | F143: 6818 | G143: 598 | H143: 1732 | I143: 2517 | J143: 8659 | K143: 40840 | L143: 88702
A144: May-13 | B144: 22588 | C144: 4 | D144: 1532 | E144: 3381 | F144: 6548 | G144: 674 | H144: 1630 | I144: 2498 | J144: 9677 | K144: 41864 | L144: 90396
A145: Jun-13 | B145: 23987 | C145: 4 | D145: 977 | E145: 3157 | F145: 6907 | G145: 548 | H145: 1578 | I145: 2268 | J145: 7136 | K145: 42438 | L145: 89000
A146: Jul-13 | B146: 24215 | C146: 4 | D146: 838 | E146: 3212 | F146: 7538 | G146: 233 | H146: 1520 | I146: 2138 | J146: 6257 | K146: 46468 | L146: 92423
...

Sheet L+B+P
A1: TOTAL DEUDA DEL ESTADO NO SEGREGADA Y PRINCIPALES DE LA DEUDA DEL ESTADO SEGREGADA: DISTRIBUCIÓN POR TENEDORES
A2: Carteras a vencimiento
L4: (saldos nominales en millones de EUROS)
A5: FECHA | B5: ENTIDADES DE CREDITO | C5: BANCO DE ESPAÑA | D5: ENTIDADES DE SEGUROS | E5: FONDOS DE PENSIONES | F5: FONDOS DE INVERSION | G5: OTRAS INSTITUCIONES FINANCIERAS | H5: EMPRESAS NO FINANCIERAS | I5: PERSONAS FÍSICAS | J5: ADMINISTRACIONES PÚBLICAS | K5: NO RESIDENTES | L5: TOTAL
A8: Ene-02 | B8: =B!B8+L!B8+'Principal segregado'!B8 -> 91614 | C8: =B!C8+L!C8+'Principal segregado'!C8 -> 3257 | D8: =B!D8+L!D8+'Principal segregado'!D8 -> 18631 | E8: =B!E8+L!E8+'Principal segregado'!E8 -> 5704 | F8: =B!F8+L!F8+'Principal segregado'!F8 -> 23788 | G8: =B!G8+L!G8+'Principal segregado'!G8 -> 4152 | H8: =B!H8+L!H8+'Principal segregado'!H8 -> 7965 | I8: =B!I8+L!I8+'Principal segregado'!I8 -> 6567 | ... L8: =B!L8+L!L8+'Principal segregado'!L8 -> 273758
A9: Feb-02 | B9: =B!B9+L!B9+'Principal segregado'!B9 -> 90305 | C9: =B!C9+L!C9+'Principal segregado'!C9 -> 3212 | D9: =B!D9+L!D9+'Principal segregado'!D9 -> 18840 | E9: =B!E9+L!E9+'Principal segregado'!E9 -> 5326 | F9: =B!F9+L!F9+'Principal segregado'!F9 -> 23625 | G9: =B!G9+L!G9+'Principal segregado'!G9 -> 4056 | H9: =B!H9+L!H9+'Principal segregado'!H9 -> 7831 | I9: =B!I9+L!I9+'Principal segregado'!I9 -> 6511 | ... L9: =B!L9+L!L9+'Principal segregado'!L9 -> 269707
A10: Mar-02 | B10: =B!B10+L!B10+'Principal segregado'!B10 -> 92076 | C10: =B!C10+L!C10+'Principal segregado'!C10 -> 3329 | D10: =B!D10+L!D10+'Principal segregado'!D10 -> 19739 | E10: =B!E10+L!E10+'Principal segregado'!E10 -> 5008 | F10: =B!F10+L!F10+'Principal segregado'!F10 -> 23838 | G10: =B!G10+L!G10+'Principal segregado'!G10 -> 3594 | H10: =B!H10+L!H10+'Principal segregado'!H10 -> 7869 | I10: =B!I10+L!I10+'Principal segregado'!I10 -> 6651 | ... L10: =B!L10+L!L10+'Principal segregado'!L10 -> 276050
A11: Abr-02 | B11: =B!B11+L!B11+'Principal segregado'!B11 -> 94621 | C11: =B!C11+L!C11+'Principal segregado'!C11 -> 3354 | D11: =B!D11+L!D11+'Principal segregado'!D11 -> 19824 | E11: =B!E11+L!E11+'Principal segregado'!E11 -> 4783 | F11: =B!F11+L!F11+'Principal segregado'!F11 -> 23401 | G11: =B!G11+L!G11+'Principal segregado'!G11 -> 3910 | H11: =B!H11+L!H11+'Principal segregado'!H11 -> 7594 | I11: =B!I11+L!I11+'Principal segregado'!I11 -> 6627 | ... L11: =B!L11+L!L11+'Principal segregado'!L11 -> 278088
A12: May-02 | B12: =B!B12+L!B12+'Principal segregado'!B12 -> 94852 | C12: =B!C12+L!C12+'Principal segregado'!C12 -> 3349 | D12: =B!D12+L!D12+'Principal segregado'!D12 -> 20231 | E12: =B!E12+L!E12+'Principal segregado'!E12 -> 4917 | F12: =B!F12+L!F12+'Principal segregado'!F12 -> 23315 | G12: =B!G12+L!G12+'Principal segregado'!G12 -> 4034 | H12: =B!H12+L!H12+'Principal segregado'!H12 -> 7639 | I12: =B!I12+L!I12+'Principal segregado'!I12 -> 6720 | ... L12: =B!L12+L!L12+'Principal segregado'!L12 -> 282953
A13: Jun-02 | B13: =B!B13+L!B13+'Principal segregado'!B13 -> 95805 | C13: =B!C13+L!C13+'Principal segregado'!C13 -> 3284 | D13: =B!D13+L!D13+'Principal segregado'!D13 -> 20091 | E13: =B!E13+L!E13+'Principal segregado'!E13 -> 5056 | F13: =B!F13+L!F13+'Principal segregado'!F13 -> 22976 | G13: =B!G13+L!G13+'Principal segregado'!G13 -> 4050 | H13: =B!H13+L!H13+'Principal segregado'!H13 -> 7450 | I13: =B!I13+L!I13+'Principal segregado'!I13 -> 6732 | ... L13: =B!L13+L!L13+'Principal segregado'!L13 -> 281913
A14: Jul-02 | B14: =B!B14+L!B14+'Principal segregado'!B14 -> 92432 | C14: =B!C14+L!C14+'Principal segregado'!C14 -> 3209 | D14: =B!D14+L!D14+'Principal segregado'!D14 -> 19621 | E14: =B!E14+L!E14+'Principal segregado'!E14 -> 5016 | F14: =B!F14+L!F14+'Principal segregado'!F14 -> 20389 | G14: =B!G14+L!G14+'Principal segregado'!G14 -> 4010 | H14: =B!H14+L!H14+'Principal segregado'!H14 -> 7503 | I14: =B!I14+L!I14+'Principal segregado'!I14 -> 6650 | ... L14: =B!L14+L!L14+'Principal segregado'!L14 -> 276064
A15: Ago-02 | B15: =B!B15+L!B15+'Principal segregado'!B15 -> 89392 | C15: =B!C15+L!C15+'Principal segregado'!C15 -> 3275 | D15: =B!D15+L!D15+'Principal segregado'!D15 -> 19634 | E15: =B!E15+L!E15+'Principal segregado'!E15 -> 4984 | F15: =B!F15+L!F15+'Principal segregado'!F15 -> 21876 | G15: =B!G15+L!G15+'Principal segregado'!G15 -> 3977 | H15: =B!H15+L!H15+'Principal segregado'!H15 -> 7815 | I15: =B!I15+L!I15+'Principal segregado'!I15 -> 6686 | ... L15: =B!L15+L!L15+'Principal segregado'!L15 -> 275309
A16: Sep-02 | B16: =B!B16+L!B16+'Principal segregado'!B16 -> 90563 | C16: =B!C16+L!C16+'Principal segregado'!C16 -> 3482 | D16: =B!D16+L!D16+'Principal segregado'!D16 -> 18994 | E16: =B!E16+L!E16+'Principal segregado'!E16 -> 4944 | F16: =B!F16+L!F16+'Principal segregado'!F16 -> 22048 | G16: =B!G16+L!G16+'Principal segregado'!G16 -> 4111 | H16: =B!H16+L!H16+'Principal segregado'!H16 -> 7886 | I16: =B!I16+L!I16+'Principal segregado'!I16 -> 6673 | ... L16: =B!L16+L!L16+'Principal segregado'!L16 -> 281228
A17: Oct-02 | B17: =B!B17+L!B17+'Principal segregado'!B17 -> 90559 | C17: =B!C17+L!C17+'Principal segregado'!C17 -> 3677 | D17: =B!D17+L!D17+'Principal segregado'!D17 -> 19229 | E17: =B!E17+L!E17+'Principal segregado'!E17 -> 5251 | F17: =B!F17+L!F17+'Principal segregado'!F17 -> 22647 | G17: =B!G17+L!G17+'Principal segregado'!G17 -> 3907 | H17: =B!H17+L!H17+'Principal segregado'!H17 -> 8180 | I17: =B!I17+L!I17+'Principal segregado'!I17 -> 6666 | ... L17: =B!L17+L!L17+'Principal segregado'!L17 -> 282176
A18: Nov-02 | B18: =B!B18+L!B18+'Principal segregado'!B18 -> 90345 | C18: =B!C18+L!C18+'Principal segregado'!C18 -> 3875 | D18: =B!D18+L!D18+'Principal segregado'!D18 -> 18975 | E18: =B!E18+L!E18+'Principal segregado'!E18 -> 5017 | F18: =B!F18+L!F18+'Principal segregado'!F18 -> 22093 | G18: =B!G18+L!G18+'Principal segregado'!G18 -> 3833 | H18: =B!H18+L!H18+'Principal segregado'!H18 -> 7929 | I18: =B!I18+L!I18+'Principal segregado'!I18 -> 6669 | ... L18: =B!L18+L!L18+'Principal segregado'!L18 -> 282511
A19: Dic-02 | B19: =B!B19+L!B19+'Principal segregado'!B19 -> 91455 | C19: =B!C19+L!C19+'Principal segregado'!C19 -> 4087 | D19: =B!D19+L!D19+'Principal segregado'!D19 -> 18912 | E19: =B!E19+L!E19+'Principal segregado'!E19 -> 5013 | F19: =B!F19+L!F19+'Principal segregado'!F19 -> 21587 | G19: =B!G19+L!G19+'Principal segregado'!G19 -> 3765 | H19: =B!H19+L!H19+'Principal segregado'!H19 -> 7926 | I19: =B!I19+L!I19+'Principal segregado'!I19 -> 6636 | ... L19: =B!L19+L!L19+'Principal segregado'!L19 -> 283442
... A211: Dic-18 | B211: =B!B211+L!B211+'Principal segregado'!B211 -> 156954 | C211: =B!C211+L!C211+'Principal segregado'!C211 -> 217923.49 | D211: =B!D211+L!D211+'Principal segregado'!D211 -> 94858.726 | E211: =B!E211+L!E211+'Principal segregado'!E211 -> 15176.555 | F211: =B!F211+L!F211+'Principal segregado'!F211 -> 29467.087 | G211: =B!G211+L!G211+'Principal segregado'!G211 -> 693.858 | H211: =B!H211+L!H211+'Principal segregado'!H211 -> 1265.5468 | I211: =B!I211+L!I211+'Principal segregado'!I211 -> 1646.8904 | ... L211: =B!L211+L!L211+'Principal segregado'!L211 -> 964860.01
A212: Ene-19 | B212: 159285.89 | C212: 216477.49 | D212: 93596.674 | E212: 15354.697 | F212: 29590.268 | G212: 734.754 | H212: 1329.6218 | I212: 1625.6473 | J212: 13423.703 | K212: 434896 | L212: 966314.75
A213: Feb-19 | B213: 164868.1 | C213: 216822.49 | D213: 95420.837 | E213: 15091.472 | F213: 29898.093 | G213: 727.975 | H213: 1293.2008 | I213: 1488.5224 | J213: 13652.296 | K213: 436534.22 | L213: 975797.21
A214: Mar-19 | B214: 170176.4 | C214: 217248.49 | D214: 96255.133 | E214: 15218.222 | F214: 30250.202 | G214: 737.42178 | H214: 1307.1148 | I214: 1484.7286 | J214: 13719.113 | K214: 441922.69 | L214: 988319.52
A215: Abr-19 | B215: 160797.51 | C215: 213429.29 | D215: 95347.937 | E215: 14839.391 | F215: 26783.264 | G215: 693.50878 | H215: 1612.4418 | I215: 1424.8692 | J215: 13506.234 | K215: 443934.2 | L215: 972368.65
A216: May-19 | B216: 159619.44 | C216: 213858.79 | D216: 96688.697 | E216: 14682.853 | F216: 26957.789 | G216: 650.631 | H216: 1440.8238 | I216: 1420.5002 | J216: 13014.767 | K216: 452633.84 | L216: 980968.13
A217: Jun-19 | B217: 156774.07 | C217: 214013.79 | D217: 95558.384 | E217: 14700.174 | F217: 29107.046 | G217: 680.914 | H217: 844.24681 | I217: 1402.4608 | J217: 13668.8 | K217: 467854.42 | L217: 994604.31
A218: Jul-19 | B218: 152735.02 | C218: 211469.29 | D218: 94997.082 | E218: 14900.692 | F218: 28693.276 | G218: 626.739 | H218: 791.58581 | I218: 1360.8192 | J218: 11776.671 | K218: 463960.29 | L218: 981311.47
A219: Ago-19 | B219: 149894.72 | C219: 211684.79 | D219: 95205.064 | E219: 15144.548 | F219: 28226.483 | G219: 627.264 | H219: 881.68781 | I219: 1360.2351 | J219: 10602.298 | K219: 470594.1 | L219: 984221.19
A220: Sep-19 | B220: 151819.52 | C220: 211884.1 | D220: 95469.322 | E220: 14817.945 | F220: 28357.234 | G220: 692.698 | H220: 873.71581 | I220: 1349.9233 | J220: 10575.703 | K220: 477657.69 | L220: 993497.84
A221: Oct-19 | B221: 146081.85 | C221: 210509.6 | D221: 94558.515 | E221: 13434.007 | F221: 27332.201 | G221: 667.288 | H221: 793.52981 | I221: 1301.4352 | J221: 10321.716 | K221: 474900.09 | L221: 979900.23
A222: Nov-19 | B222: 145377.8 | C222: 210247.1 | D222: 94138.916 | E222: 13125.222 | F222: 26407.48 | G222: 743.816 | H222: 807.75481 | I222: 1298.1098 | J222: 10971.884 | K222: 476915.86 | L222: 980033.95
A223: Dic-19 | B223: 143765.93 | C223: 212598.5 | D223: 91684.296 | E223: 12732.678 | F223: 24812.845 | G223: 763.42 | H223: 845.72681 | I223: 1420.8908 | J223: 15194.203 | K223: 480093.84 | L223: 983912.33
... A295: Dic-25 | B295: 211320.63 | C295: 334951.26 | D295: 96931.89 | E295: 9376.0613 | F295: 33449.927 | G295: 2198.5243 | H295: 5391.1871 | I295: 22375.451 | J295: 33741.08 | K295: 702983.35 | L295: 1452719.4
A298: Fuente: 2002-2015 Banco de España (datos Iberclear), 2016-2021 Banco de España (datos Securities Holdings Statistics).
A299: Debido a los cambios en la fuente de información, hay una ruptura en las series a partir de 2016.

Sheet Principal segregado
A1: BONOS Y OBLIGACIONES DEL ESTADO SEGREGADOS : DISTRIBUCION POR TENEDORES
A2: Carteras a vencimiento
A4: PRINCIPALES SEGREGADOS | L4: (saldos nominales en millones de EUROS)
A5: FECHA | B5: ENTIDADES DE CREDITO | C5: BANCO DE ESPAÑA | D5: ENTIDADES DE SEGUROS | E5: FONDOS DE PENSIONES | F5: FONDOS DE INVERSION | G5: OTRAS INSTITUCIONES FINANCIERAS | H5: EMPRESAS NO FINANCIERAS | I5: PERSONAS FÍSICAS | J5: ADMINISTRACIONES PÚBLICAS | K5: NO RESIDENTES | L5: TOTAL
A8: Ene-02 | B8: 1216 | C8: 0 | D8: 1660 | E8: 89 | F8: 4700 | G8: 6 | H8: 837 | I8: 1218 | J8: 0 | K8: 2237 | L8: 11963
A9: Feb-02 | B9: 1209 | C9: 0 | D9: 1661 | E9: 89 | F9: 4841 | G9: 9 | H9: 796 | I9: 1217 | J9: 0 | K9: 2411 | L9: 12234
A10: Mar-02 | B10: 1353 | C10: 0 | D10: 1665 | E10: 89 | F10: 4953 | G10: 5 | H10: 795 | I10: 1217 | J10: 0 | K10: 2397 | L10: 12474
A11: Abr-02 | B11: 1451 | C11: 0 | D11: 1670 | E11: 89 | F11: 5224 | G11: 5 | H11: 634 | I11: 1217 | J11: 0 | K11: 2363 | L11: 12653
A12: May-02 | B12: 1477 | C12: 0 | D12: 1773 | E12: 89 | F12: 5506 | G12: 5 | H12: 630 | I12: 1218 | J12: 0 | K12: 2398 | L12: 13096
A13: Jun-02 | B13: 1582 | C13: 0 | D13: 1761 | E13: 89 | F13: 5575 | G13: 16 | H13: 610 | I13: 1219 | J13: 0 | K13: 2444 | L13: 13297
A14: Jul-02 | B14: 1294 | C14: 0 | D14: 1749 | E14: 91 | F14: 5213 | G14: 5 | H14: 560 | I14: 1218 | J14: 0 | K14: 2287 | L14: 12416
A15: Ago-02 | B15: 1387 | C15: 0 | D15: 1750 | E15: 93 | F15: 5285 | G15: 22 | H15: 575 | I15: 1218 | J15: 0 | K15: 2362 | L15: 12691
A16: Sep-02 | B16: 1471 | C16: 0 | D16: 1716 | E16: 94 | F16: 5154 | G16: 19 | H16: 575 | I16: 1218 | J16: 3 | K16: 2562 | L16: 12812
A17: Oct-02 | B17: 1606 | C17: 0 | D17: 1741 | E17: 96 | F17: 5174 | G17: 36 | H17: 529 | I17: 1218 | J17: 3 | K17: 2626 | L17: 13030
A18: Nov-02 | B18: 1523 | C18: 0 | D18: 1670 | E18: 97 | F18: 4898 | G18: 20 | H18: 493 | I18: 1219 | J18: 4 | K18: 2655 | L18: 12579
A19: Dic-02 | B19: 1549 | C19: 0 | D19: 1668 | E19: 145 | F19: 4937 | G19: 20 | H19: 413 | I19: 1223 | J19: 4 | K19: 2623 | L19: 12582
... A295: Dic-25 | B295: 2491.2725 | C295: 0 | D295: 12004.288 | E295: 352.093 | F295: 612.9 | G295: 0 | H295: 78.161217 | I295: 287.33578 | J295: 179.55 | K295: 15087.2 | L295: 31092.8
A298: Fuente: 2002-2015 Banco de España (datos Iberclear), 2016-2021 Banco de España (datos Securities Holdings Statistics).
A299: Debido a los cambios en la fuente de información, hay una ruptura en las series a partir de 2016.

Sheet Cupón segregado
A1: BONOS Y OBLIGACIONES DEL ESTADO SEGREGADOS : DISTRIBUCION POR TENEDORES
A2: Carteras a vencimiento
A4: CUPONES SEGREGADOS | L4: (saldos nominales en millones de EUROS)
A5: FECHA | B5: ENTIDADES DE CREDITO | C5: BANCO DE ESPAÑA | D5: ENTIDADES DE SEGUROS | E5: FONDOS DE PENSIONES | F5: FONDOS DE INVERSION | G5: OTRAS INSTITUCIONES FINANCIERAS | H5: EMPRESAS NO FINANCIERAS | I5: PERSONAS FÍSICAS | J5: ADMINISTRACIONES PÚBLICAS | K5: NO RESIDENTES | L5: TOTAL
A8: Ene-02 | B8: 856 | C8: 0 | D8: 2178 | E8: 132 | F8: 889 | G8: 4 | H8: 137 | I8: 732 | J8: 0 | K8: 2426 | L8: 7353
A9: Feb-02 | B9: 846 | C9: 0 | D9: 2189 | E9: 134 | F9: 901 | G9: 0 | H9: 137 | I9: 748 | J9: 0 | K9: 2470 | L9: 7425
A10: Mar-02 | B10: 885 | C10: 0 | D10: 2222 | E10: 134 | F10: 913 | G10: 0 | H10: 139 | I10: 755 | J10: 0 | K10: 2393 | L10: 7442
A11: Abr-02 | B11: 906 | C11: 0 | D11: 2225 | E11: 136 | F11: 912 | G11: 0 | H11: 145 | I11: 761 | J11: 0 | K11: 2447 | L11: 7531
A12: May-02 | B12: 978 | C12: 0 | D12: 2302 | E12: 123 | F12: 902 | G12: 0 | H12: 146 | I12: 766 | J12: 0 | K12: 2498 | L12: 7716
A13: Jun-02 | B13: 1307 | C13: 0 | D13: 2282 | E13: 124 | F13: 918 | G13: 0 | H13: 148 | I13: 775 | J13: 0 | K13: 2437 | L13: 7992
A14: Jul-02 | B14: 1304 | C14: 0 | D14: 2274 | E14: 124 | F14: 885 | G14: 0 | H14: 172 | I14: 765 | J14: 0 | K14: 2344 | L14: 7867
A15: Ago-02 | B15: 1343 | C15: 0 | D15: 2276 | E15: 124 | F15: 880 | G15: 0 | H15: 168 | I15: 766 | J15: 0 | K15: 2351 | L15: 7908
A16: Sep-02 | B16: 1292 | C16: 0 | D16: 2247 | E16: 127 | F16: 893 | G16: 54 | H16: 169 | I16: 767 | J16: 0 | K16: 2368 | L16: 7917
A17: Oct-02 | B17: 1267 | C17: 0 | D17: 2261 | E17: 128 | F17: 871 | G17: 37 | H17: 170 | I17: 769 | J17: 0 | K17: 2551 | L17: 8054
A18: Nov-02 | B18: 1227 | C18: 0 | D18: 2233 | E18: 126 | F18: 850 | G18: 37 | H18: 142 | I18: 770 | J18: 0 | K18: 2611 | L18: 7996
A19: Dic-02 | B19: 1233 | C19: 0 | D19: 2145 | E19: 125 | F19: 892 | G19: 0 | H19: 142 | I19: 775 | J19: 0 | K19: 2700 | L19: 8012
... A295: Dic-25 | B295: 2047.0688 | C295: 0 | D295: 6940.6618 | E295: 348.375 | F295: 262.713 | G295: 0 | H295: 3.944871 | I295: 17.268607 | J295: 535.7733 | K295: 12072.533 | L295: 22228.338
A298: Fuente: 2002-2015 Banco de España (datos Iberclear), 2016-2021 Banco de España (datos Securities Holdings Statistics).
A299: Debido a los cambios en la fuente de información, hay una ruptura en las series a partir de 2016.
